BEGIN:VCALENDAR
VERSION:2.0
PRODID:-//Arbetarrörelsens arkiv och bibliotek - ECPv6.15.20//NONSGML v1.0//EN
CALSCALE:GREGORIAN
METHOD:PUBLISH
X-ORIGINAL-URL:https://arbark.se/sv/
X-WR-CALDESC:Händelser för Arbetarrörelsens arkiv och bibliotek
REFRESH-INTERVAL;VALUE=DURATION:PT1H
X-Robots-Tag:noindex
X-PUBLISHED-TTL:PT1H
BEGIN:VTIMEZONE
TZID:Europe/Stockholm
BEGIN:DAYLIGHT
TZOFFSETFROM:+0100
TZOFFSETTO:+0200
TZNAME:CEST
DTSTART:20210328T010000
END:DAYLIGHT
BEGIN:STANDARD
TZOFFSETFROM:+0200
TZOFFSETTO:+0100
TZNAME:CET
DTSTART:20211031T010000
END:STANDARD
BEGIN:DAYLIGHT
TZOFFSETFROM:+0100
TZOFFSETTO:+0200
TZNAME:CEST
DTSTART:20220327T010000
END:DAYLIGHT
BEGIN:STANDARD
TZOFFSETFROM:+0200
TZOFFSETTO:+0100
TZNAME:CET
DTSTART:20221030T010000
END:STANDARD
BEGIN:DAYLIGHT
TZOFFSETFROM:+0100
TZOFFSETTO:+0200
TZNAME:CEST
DTSTART:20230326T010000
END:DAYLIGHT
BEGIN:STANDARD
TZOFFSETFROM:+0200
TZOFFSETTO:+0100
TZNAME:CET
DTSTART:20231029T010000
END:STANDARD
END:VTIMEZONE
BEGIN:VEVENT
DTSTART;TZID=Europe/Stockholm:20221115T150000
DTEND;TZID=Europe/Stockholm:20221115T160000
DTSTAMP:20260423T045427
CREATED:20220923T055302Z
LAST-MODIFIED:20221103T121640Z
UID:18956-1668524400-1668528000@arbark.se
SUMMARY:NLHN: Migration at the multi-level intersection of industrial relations: the Schleswig-Holstein Campaign and the Swedish garment industry in the early 1950s
DESCRIPTION:An online seminar organized by the Nordic Labour History Network. \nDuring the so-called Schleswig-Holstein campaign\, about 800 – mostly female – young Germans arrived in Sweden in 1950–1951. The campaign was a German initiative\, emphasising vocational training for young and unemployed refugees and expellees\, even though it ended up in a more pragmatic labour recruitment. In his research\, economic historian Johan Svanberg investigates the international relationship between West German and Swedish labour-market authorities\, by concentrating on industrial relations in the Swedish garment industry and focusing on the streamlined clothing factory Algots in Borås. He analyzes the mutual interplay between migration and industrial relations and clarifies how industrial relations on different levels of society intersected and reciprocally moulded a framework for the actors involved in the migration process. Svanberg illuminates how the campaign affected the industrial relations and observes to what extent perceptions of gender\, age\, ethnicity\, and class among the actors involved influenced their argumentation and agency. \nPresenter: Johan Svanberg\, Stockholm University \n 
URL:https://arbark.se/sv/events/nlhn-the-contrasts-of-migration-narratives-german-women-at-algots-in-boras-during-the-1950s/
ATTACH;FMTTYPE=image/png:https://arbark.se/wp-content/dokument/2022/09/svanberg.png
END:VEVENT
END:VCALENDAR