BEGIN:VCALENDAR
VERSION:2.0
PRODID:-//Arbetarrörelsens arkiv och bibliotek - ECPv6.15.20//NONSGML v1.0//EN
CALSCALE:GREGORIAN
METHOD:PUBLISH
X-ORIGINAL-URL:https://arbark.se/sv/
X-WR-CALDESC:Händelser för Arbetarrörelsens arkiv och bibliotek
REFRESH-INTERVAL;VALUE=DURATION:PT1H
X-Robots-Tag:noindex
X-PUBLISHED-TTL:PT1H
BEGIN:VTIMEZONE
TZID:Europe/Stockholm
BEGIN:DAYLIGHT
TZOFFSETFROM:+0100
TZOFFSETTO:+0200
TZNAME:CEST
DTSTART:20220327T010000
END:DAYLIGHT
BEGIN:STANDARD
TZOFFSETFROM:+0200
TZOFFSETTO:+0100
TZNAME:CET
DTSTART:20221030T010000
END:STANDARD
BEGIN:DAYLIGHT
TZOFFSETFROM:+0100
TZOFFSETTO:+0200
TZNAME:CEST
DTSTART:20230326T010000
END:DAYLIGHT
BEGIN:STANDARD
TZOFFSETFROM:+0200
TZOFFSETTO:+0100
TZNAME:CET
DTSTART:20231029T010000
END:STANDARD
BEGIN:DAYLIGHT
TZOFFSETFROM:+0100
TZOFFSETTO:+0200
TZNAME:CEST
DTSTART:20240331T010000
END:DAYLIGHT
BEGIN:STANDARD
TZOFFSETFROM:+0200
TZOFFSETTO:+0100
TZNAME:CET
DTSTART:20241027T010000
END:STANDARD
END:VTIMEZONE
BEGIN:VEVENT
DTSTART;TZID=Europe/Stockholm:20230926T180000
DTEND;TZID=Europe/Stockholm:20230926T190000
DTSTAMP:20260424T100732
CREATED:20230921T072255Z
LAST-MODIFIED:20230926T075740Z
UID:19423-1695751200-1695754800@arbark.se
SUMMARY:Carl Lindhagen och politikens omvandling\, 1896-1923
DESCRIPTION:Carl Lindhagen var en av Sveriges mest välkända politiker vid 1900-talets början. Han valdes in i riksdagen som Liberal 1897\, men gick med i Socialdemokraterna 1909. Och 1917 blev han en nyckelperson vid bildandet av Sverges socialdemokratiska vänsterparti. När delar av SSV 1921 bestämde sig för att gå med i den kommunistiska internationalen och bli Sveriges kommunistiska parti blev Lindhagen utesluten. Och han återvände till Socialdemokraterna 1923. Under dessa 26 år rörde sig det svenska politiska landskapet sakta men säkert mot allmän rösträtt. Som riksdagsledamot deltog Lindhagen i debatterna om demokrati\, både som visionär politisk tänkare och politisk utförare med uppkavlade ärmar. Och han gjorde det på ett sätt som både entusiasmerade och retade upp såväl politiska vänner som fiender.  \nI sin rykande färska avhandling\, Demokratins stridlinjer. Carl Lindhagen och politikens omvandling\, 1896-1923\, försvarad vid Södertörns högskola den 8 september i år\, undersöker Josefin Hägglund hur Lindhagen tolkade den politiska utvecklingen under dessa turbulenta år och hur han föreställde sig den anstormande framtiden.  \nHägglund presenterar sin avhandling och det kommer finnas tid för frågor. \nVill du läsa på inför webinariet\, finns avhandlingen här i fulltext >>
URL:https://arbark.se/sv/events/carl-lindhagen-och-politikens-omvandling-1896-1923/
ATTACH;FMTTYPE=image/png:https://arbark.se/wp-content/dokument/2023/09/20230926-Hägglund.png
END:VEVENT
END:VCALENDAR