BEGIN:VCALENDAR
VERSION:2.0
PRODID:-//Arbetarrörelsens arkiv och bibliotek - ECPv6.15.20//NONSGML v1.0//EN
CALSCALE:GREGORIAN
METHOD:PUBLISH
X-WR-CALNAME:Arbetarrörelsens arkiv och bibliotek
X-ORIGINAL-URL:https://arbark.se/sv/
X-WR-CALDESC:Händelser för Arbetarrörelsens arkiv och bibliotek
REFRESH-INTERVAL;VALUE=DURATION:PT1H
X-Robots-Tag:noindex
X-PUBLISHED-TTL:PT1H
BEGIN:VTIMEZONE
TZID:Europe/Stockholm
BEGIN:DAYLIGHT
TZOFFSETFROM:+0100
TZOFFSETTO:+0200
TZNAME:CEST
DTSTART:20220327T010000
END:DAYLIGHT
BEGIN:STANDARD
TZOFFSETFROM:+0200
TZOFFSETTO:+0100
TZNAME:CET
DTSTART:20221030T010000
END:STANDARD
BEGIN:DAYLIGHT
TZOFFSETFROM:+0100
TZOFFSETTO:+0200
TZNAME:CEST
DTSTART:20230326T010000
END:DAYLIGHT
BEGIN:STANDARD
TZOFFSETFROM:+0200
TZOFFSETTO:+0100
TZNAME:CET
DTSTART:20231029T010000
END:STANDARD
BEGIN:DAYLIGHT
TZOFFSETFROM:+0100
TZOFFSETTO:+0200
TZNAME:CEST
DTSTART:20240331T010000
END:DAYLIGHT
BEGIN:STANDARD
TZOFFSETFROM:+0200
TZOFFSETTO:+0100
TZNAME:CET
DTSTART:20241027T010000
END:STANDARD
END:VTIMEZONE
BEGIN:VEVENT
DTSTART;TZID=Europe/Stockholm:20231128T180000
DTEND;TZID=Europe/Stockholm:20231128T190000
DTSTAMP:20260421T062844
CREATED:20231013T142319Z
LAST-MODIFIED:20231025T092049Z
UID:20118-1701194400-1701198000@arbark.se
SUMMARY:LO och arbetarrörelsens kris
DESCRIPTION:I år fyller LO 125 år. Jubileet väcker frågor. Att LO försvagats och marginaliserats som samhällskraft står klart. Hur har LO hamnat där? Centralt är vad som hände under den nyliberala marknadsfundamentalismens genombrott i slutet av 1900-talet. Skildringen av arbetarrörelsens reträtter under dessa år har mest handlat om SAP\, medan LO:s roll hamnat i skuggan. En fullständig historieberättelse om arbetarrörelsens kris måste omfatta såväl parti som fackföreningsrörelse.\nDen marginaliserade position i dagens samhällsdebatt LO hamnat i står i skarp kontrast till hur det såg ut tidigare. Från skiftet 3040-tal formade LO en styrkeposition då för att citera Rudolf Meidner: Fackföreningsrörelsen tar hand om det ideologiska initiativet och genom utredningar\, offentliga programförklaringar\, sakkunnighetsutlåtanden föregår partiet.\nHur denna position gick förlorad i slutet av 1900-talet är den röda tråden i bokens historieberättelse. Att återerövra den är enligt författaren Örjan Nyström en avgörande förutsättning för en förnyelse av arbetarrörelsen som samlande reformkraft i dagens samhälle. \nÖrjan Nyström har en lång bakgrund i fackföreningsrörelsen\, såväl på arbetsplats- som på avdelningsnivå\, de sista 15 åren som utredare på LO i Göteborg. Vid sidan av detta har han varit verksam som författare.  \nVarmt välkomna till vårt webinaruim.  \nAnvänd länken nedan för att komma till Zoom.
URL:https://arbark.se/sv/events/lo-och-arbetarrorelsens-kris/
ATTACH;FMTTYPE=image/png:https://arbark.se/wp-content/dokument/2023/10/Örjan-nyström-1950x1005-3.png
END:VEVENT
END:VCALENDAR