BEGIN:VCALENDAR
VERSION:2.0
PRODID:-//Arbetarrörelsens arkiv och bibliotek - ECPv6.15.20//NONSGML v1.0//EN
CALSCALE:GREGORIAN
METHOD:PUBLISH
X-WR-CALNAME:Arbetarrörelsens arkiv och bibliotek
X-ORIGINAL-URL:https://arbark.se/sv/
X-WR-CALDESC:Händelser för Arbetarrörelsens arkiv och bibliotek
REFRESH-INTERVAL;VALUE=DURATION:PT1H
X-Robots-Tag:noindex
X-PUBLISHED-TTL:PT1H
BEGIN:VTIMEZONE
TZID:Europe/Stockholm
BEGIN:DAYLIGHT
TZOFFSETFROM:+0100
TZOFFSETTO:+0200
TZNAME:CEST
DTSTART:20220327T010000
END:DAYLIGHT
BEGIN:STANDARD
TZOFFSETFROM:+0200
TZOFFSETTO:+0100
TZNAME:CET
DTSTART:20221030T010000
END:STANDARD
BEGIN:DAYLIGHT
TZOFFSETFROM:+0100
TZOFFSETTO:+0200
TZNAME:CEST
DTSTART:20230326T010000
END:DAYLIGHT
BEGIN:STANDARD
TZOFFSETFROM:+0200
TZOFFSETTO:+0100
TZNAME:CET
DTSTART:20231029T010000
END:STANDARD
BEGIN:DAYLIGHT
TZOFFSETFROM:+0100
TZOFFSETTO:+0200
TZNAME:CEST
DTSTART:20240331T010000
END:DAYLIGHT
BEGIN:STANDARD
TZOFFSETFROM:+0200
TZOFFSETTO:+0100
TZNAME:CET
DTSTART:20241027T010000
END:STANDARD
END:VTIMEZONE
BEGIN:VEVENT
DTSTART;TZID=Europe/Stockholm:20230504T190000
DTEND;TZID=Europe/Stockholm:20230504T213000
DTSTAMP:20260423T163837
CREATED:20230428T065148Z
LAST-MODIFIED:20230428T065149Z
UID:19310-1683226800-1683235800@arbark.se
SUMMARY:Book launch: Cleaning up. Portugese women´s fight for labour rights in Toronto
DESCRIPTION:Please join Between the Lines authors for an international conversation on Cleaning Up: Portuguese Women’s Fight for Labour Rights in Toronto\, featuring a packed panel of feminist labour historians\, community activists\, and union organizers. \n— \nFeaturing: \nSusana P. Miranda and Franca Iacovetta\, authors \nSilke Neunsinger\, Swedish Labour Movement Archives & Library and Uppsala University \nMarcie Ponte\, Executive Director\, Working Women Community Centre\, Toronto  \nSidney Pratt\, Recife\, Brazil\, Founder of Cleaners’ Action (Toronto) \nIdalina Azevedo\, former cleaner and union steward\, Toronto \nWendy Iler\, Ottawa\, former union organizer\, Food and Service Workers Of Canada (FASWOC) \nNina Trige Andersen\, historian & journalist\, Society for Labour History (SFAH)\, Copenhagen \nGabriela Castro\, former St Christopher House staff and Toronto Multicultural Television newscaster\, PHD at the University of the Azores \n— \nMay 4\, 2023 at 1 – 2:30 pm (EST) \nWatch it on Zoom: https://us06web.zoom.us/j/84981852926 \n— \nAbout the book: \nThis fascinating book uncovers the little-known\, surprisingly radical history of the Portuguese immigrant women who worked as night-time office cleaners and daytime “cleaning ladies” in postwar Toronto. \nDrawing on union records\, newspapers\, and interviews\, feminist labour historians Susana P. Miranda and Franca Iacovetta piece together the lives of immigrant women who bucked convention by reshaping domestic labour and by leading union drives\, striking for workers’ rights\, and taking on corporate capital in the heart of Toronto’s financial district. Despite being sidelined within the labour movement and subjected to harsh working conditions in the commercial cleaning industry\, the women forged critical alliances with local activists to shape picket-line culture and make an indelible mark on their communities. \nRichly detailed and engagingly written\, Cleaning Up is an archival treasure about an undersung piece of working-class history in urban North America.
URL:https://arbark.se/sv/events/book-launch-cleaning-up-portugese-womens-fight-for-labour-rights-in-toronto/
ATTACH;FMTTYPE=image/png:https://arbark.se/wp-content/dokument/2023/04/CU-eventbrite.png
END:VEVENT
END:VCALENDAR