BEGIN:VCALENDAR
VERSION:2.0
PRODID:-//Arbetarrörelsens arkiv och bibliotek - ECPv6.15.20//NONSGML v1.0//EN
CALSCALE:GREGORIAN
METHOD:PUBLISH
X-WR-CALNAME:Arbetarrörelsens arkiv och bibliotek
X-ORIGINAL-URL:https://arbark.se/sv/
X-WR-CALDESC:Händelser för Arbetarrörelsens arkiv och bibliotek
REFRESH-INTERVAL;VALUE=DURATION:PT1H
X-Robots-Tag:noindex
X-PUBLISHED-TTL:PT1H
BEGIN:VTIMEZONE
TZID:Europe/Stockholm
BEGIN:DAYLIGHT
TZOFFSETFROM:+0100
TZOFFSETTO:+0200
TZNAME:CEST
DTSTART:20230326T010000
END:DAYLIGHT
BEGIN:STANDARD
TZOFFSETFROM:+0200
TZOFFSETTO:+0100
TZNAME:CET
DTSTART:20231029T010000
END:STANDARD
BEGIN:DAYLIGHT
TZOFFSETFROM:+0100
TZOFFSETTO:+0200
TZNAME:CEST
DTSTART:20240331T010000
END:DAYLIGHT
BEGIN:STANDARD
TZOFFSETFROM:+0200
TZOFFSETTO:+0100
TZNAME:CET
DTSTART:20241027T010000
END:STANDARD
BEGIN:DAYLIGHT
TZOFFSETFROM:+0100
TZOFFSETTO:+0200
TZNAME:CEST
DTSTART:20250330T010000
END:DAYLIGHT
BEGIN:STANDARD
TZOFFSETFROM:+0200
TZOFFSETTO:+0100
TZNAME:CET
DTSTART:20251026T010000
END:STANDARD
END:VTIMEZONE
BEGIN:VEVENT
DTSTART;TZID=Europe/Stockholm:20240321T180000
DTEND;TZID=Europe/Stockholm:20240321T193000
DTSTAMP:20260422T063539
CREATED:20240220T104511Z
LAST-MODIFIED:20240221T161307Z
UID:20369-1711044000-1711049400@arbark.se
SUMMARY:Rudolf Meidner-seminariet 2024 - Folkbildning för förändring
DESCRIPTION:  \nVälkommen till Rudolf Meidner-seminariet 2024  \nSeminariet arrangeras i samband med överlämningen av Rudolf Meidner-priset till 2023 års pristagare Jonas Söderqvist\, ekonomhistoriker som disputerade vid Uppsala universitet och idag verksam vid Arbetarrörelsen arkiv och bibliotek\, för hans avhandling Social rörlighet i en socialt rörig tid: Eleverna och deras utbildning vid Brunnsvik\, Väddö och Hola folkhögskolor\, 1906–1921\, Uppsala 2023. \nPristagaren utses av Arbetarrörelsens arkiv och biblioteks forskningsråd sedan 1995: priset instiftades 1994 i samband med forskningsrådets första ordförande Rudolf Meidners 80 årsdag och kommer att överlämnas av Therese Guovelin\, LOs förste vice ordförande. \nJonas Söderqvist inleder kvällen med ett föredrag om utbildningens betydelse för elevernas yrkes- och karriärvägar. Folkbildningen var viktig för att utjämna bristande tillgång till högre utbildning som merparten av den svenska befolkningen upplevde i början på 1900-talet. Idag är folkbildningen allvarligt hotad av ekonomiska nedskärningar. Det som en gång i tiden ansågs vara en viktig källa till bildning för alla och samfinansierades med staten är i dag ifrågasatt.\nI en anslutande paneldiskussion diskuterar företrädare för folkbildningen i Sverige\, tillsammans med pristagaren\, utmaningar\, behov och möjligheter för dagens folkbildning. \nI panelen deltar Marianne Garnelis\, lärare Runö Folkhögskola & Utvecklingscentrum\, Jenny Jansson\, statsvetare Uppsala universitet\, Calle Nathanson\, studieombudsman ABF Stockholm och Sverker Sörlin\, idéhistoriker KTH. Samtalet leds av Silke Neunsinger\, forskningsledare Arbetarrörelsen arkiv och bibliotek. \nSeminariet är ett samarrangemang mellan Arbetarrörelsens arkiv och bibliotek\, AKS och ABF Stockholm. \nFör frågor om seminariet kontakta Silke Neunsinger; silke.neunsinger[at]arbark.se tel. 070-761 39 27 \nHär hittar du mera information om priset och pristagaren. \nVill du läsa Jonas Söderqvists bok kan du ladda ned den som PDF via Diva-portalen vid Uppsala universitet.
URL:https://arbark.se/sv/events/rudolf-meidner-seminariet-2024-folkbildning-for-forandring/
LOCATION:ABF Stockholm\, Palmesalen\, Sveavägen 41\, Stockholm\, Sverige
ATTACH;FMTTYPE=image/jpeg:https://arbark.se/wp-content/dokument/2024/02/evenemang2024-jonas-meidner-1.jpg
END:VEVENT
END:VCALENDAR