BEGIN:VCALENDAR
VERSION:2.0
PRODID:-//Arbetarrörelsens arkiv och bibliotek - ECPv6.15.20//NONSGML v1.0//EN
CALSCALE:GREGORIAN
METHOD:PUBLISH
X-ORIGINAL-URL:https://arbark.se/sv/
X-WR-CALDESC:Händelser för Arbetarrörelsens arkiv och bibliotek
REFRESH-INTERVAL;VALUE=DURATION:PT1H
X-Robots-Tag:noindex
X-PUBLISHED-TTL:PT1H
BEGIN:VTIMEZONE
TZID:Europe/Stockholm
BEGIN:DAYLIGHT
TZOFFSETFROM:+0100
TZOFFSETTO:+0200
TZNAME:CEST
DTSTART:20230326T010000
END:DAYLIGHT
BEGIN:STANDARD
TZOFFSETFROM:+0200
TZOFFSETTO:+0100
TZNAME:CET
DTSTART:20231029T010000
END:STANDARD
BEGIN:DAYLIGHT
TZOFFSETFROM:+0100
TZOFFSETTO:+0200
TZNAME:CEST
DTSTART:20240331T010000
END:DAYLIGHT
BEGIN:STANDARD
TZOFFSETFROM:+0200
TZOFFSETTO:+0100
TZNAME:CET
DTSTART:20241027T010000
END:STANDARD
BEGIN:DAYLIGHT
TZOFFSETFROM:+0100
TZOFFSETTO:+0200
TZNAME:CEST
DTSTART:20250330T010000
END:DAYLIGHT
BEGIN:STANDARD
TZOFFSETFROM:+0200
TZOFFSETTO:+0100
TZNAME:CET
DTSTART:20251026T010000
END:STANDARD
END:VTIMEZONE
BEGIN:VEVENT
DTSTART;TZID=Europe/Stockholm:20241023T180000
DTEND;TZID=Europe/Stockholm:20241023T190000
DTSTAMP:20260424T015403
CREATED:20241009T114134Z
LAST-MODIFIED:20241009T114213Z
UID:20523-1729706400-1729710000@arbark.se
SUMMARY:Det förlorade paradiset
DESCRIPTION:Vart tog Konsum vägen? Det medlemsägda företaget som närde\, klädde\, möblerade och uppfostrade folkhemsgenerationerna. Ett gigantiskt industrikonglomerat. En av välfärdsstatens bärande pelare. I dag en tynande dagligvarukedja kallad Coop i skuggan av ärkerivalen Ica. \nFallet speglar historien om det svenska 1900-talet\, en resa från fattigdom till välfärd. \nDet är en berättelse om drömmar\, folkrörelser\, moral\, ideologiska konflikter och existentiella kriser. Historien börjar i utopier och slutar i sorg över det förlorade paradiset. \nSara Kristoffersson är konstvetare\, författare och kritiker. Sedan 2015 är hon professor i designhistoria på Konstfack. Hon skriver återkommande kritik för Dagens Nyheter.
URL:https://arbark.se/sv/events/det-forlorade-paradiset/
LOCATION:Arbetarrörelsens arkiv och bibliotek\, Elektronvägen 2\, Huddinge \, 141 49\, Sverige
ATTACH;FMTTYPE=image/png:https://arbark.se/wp-content/dokument/2024/10/kristoffersson.png
END:VEVENT
END:VCALENDAR