BEGIN:VCALENDAR
VERSION:2.0
PRODID:-//Arbetarrörelsens arkiv och bibliotek - ECPv6.15.20//NONSGML v1.0//EN
CALSCALE:GREGORIAN
METHOD:PUBLISH
X-ORIGINAL-URL:https://arbark.se/sv/
X-WR-CALDESC:Händelser för Arbetarrörelsens arkiv och bibliotek
REFRESH-INTERVAL;VALUE=DURATION:PT1H
X-Robots-Tag:noindex
X-PUBLISHED-TTL:PT1H
BEGIN:VTIMEZONE
TZID:Europe/Stockholm
BEGIN:DAYLIGHT
TZOFFSETFROM:+0100
TZOFFSETTO:+0200
TZNAME:CEST
DTSTART:20240331T010000
END:DAYLIGHT
BEGIN:STANDARD
TZOFFSETFROM:+0200
TZOFFSETTO:+0100
TZNAME:CET
DTSTART:20241027T010000
END:STANDARD
BEGIN:DAYLIGHT
TZOFFSETFROM:+0100
TZOFFSETTO:+0200
TZNAME:CEST
DTSTART:20250330T010000
END:DAYLIGHT
BEGIN:STANDARD
TZOFFSETFROM:+0200
TZOFFSETTO:+0100
TZNAME:CET
DTSTART:20251026T010000
END:STANDARD
BEGIN:DAYLIGHT
TZOFFSETFROM:+0100
TZOFFSETTO:+0200
TZNAME:CEST
DTSTART:20260329T010000
END:DAYLIGHT
BEGIN:STANDARD
TZOFFSETFROM:+0200
TZOFFSETTO:+0100
TZNAME:CET
DTSTART:20261025T010000
END:STANDARD
END:VTIMEZONE
BEGIN:VEVENT
DTSTART;TZID=Europe/Stockholm:20251106T130000
DTEND;TZID=Europe/Stockholm:20251106T170000
DTSTAMP:20260421T171102
CREATED:20250904T101412Z
LAST-MODIFIED:20251103T150853Z
UID:21067-1762434000-1762448400@arbark.se
SUMMARY:Digitisera arbetarrörelsens minne. En workshop om tekniker för digitalt tillgängliggörande
DESCRIPTION:Hur har vi gjort för att digitisera arbetarrörelsens minne? Välkommen på en workshop om tekniker för digitalt tillgängliggörande. \nInom projektet Labour’s Memory (Arbetarrörelsens minne) har fyra arkivinstitutioner arbetat tillsammans med forskare från tre institutioner vid Uppsala universitet. Tillsammans har vi tagit fram en webbtjänst där användaren kan söka i arkivmaterial från den fackliga rörelsen. Från det lokala till det internationella. \nDe deltagande institutionerna är\nArbetarrörelsens arkiv och bibliotek i Huddinge\nFolkrörelsearkivet för Uppsala län i Uppsala\nArchiv der Sozialen Demokratie i Bonn\nInternational Institute for Social History i Amsterdam \nInstitutionen för ABM\, Uppsala universitet\nInstitutionen för Lingvistik och filologi\, Uppsala universitet\nInstitutionen för Informationsteknologi\, Uppsala universitet \nMed finansiering från Riksbankens Jubileumsfond har vi tagit fram en infrastruktur för att skapa\, förvara och publicera digitserat arkivmaterial\, samordnat materialeveranser från fyra olika e-arkivssystem och skapat en gemensam samling för användaren att söka material i. Och nu\, när projektet är på väg mot sitt slut och tjänsten ska lanseras för allmänheten\, vill vi dela med oss av våra lärdomar från resans gång. \nVi tänker ta det från början: hur vi resonerade kring vilken sorts material som lämpade sig för digitisering\, vilka tekniska lösningar som krävdes för att genomföra det. Hur vi skulle skapa en teknisk plattform för att kunna sampublicera material utan att vi släppte på kontrollen från respektive arkivinstitution. \nVi kommer prata om Open Source\, OCR/HTR\, IIIF\, NER och metadata-standarder. Vi kommer visa progamvaror som Loghi\, e-scriptorium och Omeka S. Och vi hoppas att ni vill ta chansen att klämma och känna på vad vi har gjort\, ställa frågor och komma med funderingar. \nGår ni i tankar på att genomföra ett digitseringsprojekt? Eller är ni intresserade av material för forskning inom digital humaniora? Tipsa en kollega\, eller en student\, och kom på workshop hos oss. Eftersom vi är en internationell projektgrupp\, med medlemmar från flera europeiska länder\, kommer arbetsspråket på presentationerna att vara engelska. \nRegistreringen är stängd och evenemanget är fullbokat. \n  \nProgram\n\n\n\n\n13:00 \n\n\nWhat have we done? An introduction \nWhy did we choose this kind of material to work with? What’s the purpose of the project? And a little bit about our production chain at ARAB and FAC. \nÖrjan Simonson\, FAC\nJonas Söderqvist\, ARAB \n\n\n\n\n13:20 \n\n\nFrom physical to digital\nHTR\, Loghi\, Transcribus vs E-Scriptorium etc. \nRaphaela Heil\, dept. of linguistics\, Stockholm university \n\n\n\n\n14:00 \n\n\nBreak \n\n\n\n\n14:10 \n\n\nHow do we feed the machine? \nMetadata standards and discussion about choices we made. And the art of linking repositories. \nNils Heun\, Archiv der Sozialen Demokrati\nJonas Söderqvist\, ARAB \n\n\n\n\n14:50 \n\n\nCoffee and demo of the system for those interested \n\n\n\n\n15:20 \n\n\nPreparing the text for the digital age\nEnriching the data with Named Entity Recognition (NER). \nCrina Madilina Tudor\, dept. of Lingusitics\, Stockholm University\nEva Pettersson\, dept. of  Linguistics and Philology\, Uppsala University \n\n\n\n\n16:00 \n\n\nBreak \n\n\n\n\n16:10 \n\n\nBringing the results to the world\nAn introduction to Omeka S as a publishing tool for digitised archive collections. \nJesús Bocanegra\, Libnamic Humanidades Digitales \n\n\n\n\n16:50 \n\n\nLessons learned\, where do we go from here? \n\n\n\n\n17:00 \n\n\nThe end
URL:https://arbark.se/sv/events/workshop-digitsera-arbetarrorelsens-minne/
LOCATION:Arbetarrörelsens arkiv och bibliotek\, Elektronvägen 2\, Huddinge \, 141 49\, Sverige
ATTACH;FMTTYPE=image/png:https://arbark.se/wp-content/dokument/2025/09/6-nov-internet.png
END:VEVENT
END:VCALENDAR