BEGIN:VCALENDAR
VERSION:2.0
PRODID:-//Arbetarrörelsens arkiv och bibliotek - ECPv6.15.20//NONSGML v1.0//EN
CALSCALE:GREGORIAN
METHOD:PUBLISH
X-WR-CALNAME:Arbetarrörelsens arkiv och bibliotek
X-ORIGINAL-URL:https://arbark.se/sv/
X-WR-CALDESC:Händelser för Arbetarrörelsens arkiv och bibliotek
REFRESH-INTERVAL;VALUE=DURATION:PT1H
X-Robots-Tag:noindex
X-PUBLISHED-TTL:PT1H
BEGIN:VTIMEZONE
TZID:Europe/Stockholm
BEGIN:DAYLIGHT
TZOFFSETFROM:+0100
TZOFFSETTO:+0200
TZNAME:CEST
DTSTART:20250330T010000
END:DAYLIGHT
BEGIN:STANDARD
TZOFFSETFROM:+0200
TZOFFSETTO:+0100
TZNAME:CET
DTSTART:20251026T010000
END:STANDARD
BEGIN:DAYLIGHT
TZOFFSETFROM:+0100
TZOFFSETTO:+0200
TZNAME:CEST
DTSTART:20260329T010000
END:DAYLIGHT
BEGIN:STANDARD
TZOFFSETFROM:+0200
TZOFFSETTO:+0100
TZNAME:CET
DTSTART:20261025T010000
END:STANDARD
BEGIN:DAYLIGHT
TZOFFSETFROM:+0100
TZOFFSETTO:+0200
TZNAME:CEST
DTSTART:20270328T010000
END:DAYLIGHT
BEGIN:STANDARD
TZOFFSETFROM:+0200
TZOFFSETTO:+0100
TZNAME:CET
DTSTART:20271031T010000
END:STANDARD
END:VTIMEZONE
BEGIN:VEVENT
DTSTART;TZID=Europe/Stockholm:20260205T100000
DTEND;TZID=Europe/Stockholm:20260206T153000
DTSTAMP:20260421T130237
CREATED:20260112T140408Z
LAST-MODIFIED:20260113T110247Z
UID:21767-1770285600-1770391800@arbark.se
SUMMARY:Gender\, Class\, and Peace in the Nordic Countries and Beyond in the 1980s
DESCRIPTION:A two-day workshop on gender\, class and peace in the Nordic countries and beyond in the 1980s. With the financial support of Riksbankens Jubileumsfond \nThe workshop is open to all\, but all non-presenting participants need to register no later than the 22nd of January\, by sending an email to yulia.gradskova@sh.se and hannah.k.yken@jyu.fi \nProgramme\nPlease note that this is a preliminary programme and changes are possible.\n  \nFEBRUARY 5 \n10.00-10.30 Registration & Introduction \n10.30-12.00 Session 1: Women’s Organisations and Transnationalism in A Divided World: Challenges\, Achievements and Implications \nSanela Bajramovic (Örebro University): TBA \nMonica Quirico: Peace as anachronism? Italian women against nuclear arms race in the 1980s \nRosa Campbell (King’s College London): ’Like You We Sit on the Doorstep of the World’s End’\n  \n12.00-13.00 Lunch\n  \n13.00-15.00 Session 2: Nordic Perspectives on Gender and Peace: Time\, Place and ldentity \nHannah Kaarina Yoken (University of Jyväskylä) Gender and Glass in the Finnish Peace Committee\, 1979-1988 \nRachel Pierce (Kvinnsamm\, University of Gothenburg) The Long Shadow of 1968: Peace\, Gender\, and Violence in 1980s Sweden \nArja Turunen (University of Jyväskylä) Feminist Lamenting: Women for Peace and the Finnish ltkijänaiset \nHeidi Kurvinen (University of Bergen) Women’s Organising for Peace in the Norwegian Print Media\, 1980-1984 \n15.00-15.15 Coffee \n15.15-16.00 Excursion: Introduction to material focused on gender\, class and/or peace housed in ARBARK’s archives and collections \n16.00-17.30 Session 3: Transnational Perspectives on Gender\, Glass and Peace in the Nordic Countries \nRósa Magnusdóttir (University of lceland) ”That woul’d ask no one about gender\, only about being human”: Gender\, Class and Transnational Networks in lcelandic Women Peace Activism in the 1980s \nVilja Mylyviita (Tampere University) Socialist Feminism and Peace in the 1980s: Insights from Mirjam Vire-Tuominen’s Transnational Work \nValger∂ur Palmadóttir (University of Akureyri) The ”new international peace movement” in pub/ic discourse in lceland in the 1980s\, and the strategy of organising for peace as professional groups\n \nFEBRUARY 6\n9.30-11.00 Session 4: Transnational Grassroots Women’s Organising Across and Behind the Iron Curtain \nYulia Gradskava (Södertörn University) Nordic Women and Women’s Peace Marches of the early 1980s – representations and conflicts in Sweden \nLibora Oates-lndruchova (University of Graz) online Greenham Common Women’s Peace Camp in the Czech Media: Between lnstrumentalization and Resistance \nlrina Gordeeva (Leibniz Centre for Contemporary History\, ZZF Potsdam) The Family as the ”Basic Unit” of the Soviet Independent Peace Movement of the 1980s \n11.00-11.15 Coffee \n11.11-12.15 Session 5: Roundtable Discussion on Transnational Activism\, Gendered Organising & the Cold War – In Search of Methodological Best Practices \nHannah Kaarina Yoken (University of Jyväskylä)\, Heidi Kurvinen (University of Bergen)\, Sanela Bajramovic (Örebro University)\, Valger∂ur Palmadóttir (University of Akureyri)\, Yulia Gradskava (Södertörn University) \nWe encourage all workshop participants (presenters and audience members) to partake in this this discussion\, in which we will share experiences and ideas regarding how to effectively\, yet thoughtfully carry out research on transnational movements\, organisations\, groups and individuals. \n12.15-13.30 Lunch \n13.30-15.30 Session 6: Studying the Past\, Planning the Future – The Network’s Next Steps \nDuring this session\, we will gather together to plan our emerging network’s next steps\, including future events and joint publications. \nEnd of the workshop\n 
URL:https://arbark.se/sv/events/gender-class-and-peace-in-the-nordic-countries-and-beyond-in-the-1980s/
LOCATION:Arbetarrörelsens arkiv och bibliotek\, Elektronvägen 2\, Huddinge \, 141 49\, Sverige
ATTACH;FMTTYPE=image/png:https://arbark.se/wp-content/dokument/2026/01/5-6-feb.png
END:VEVENT
END:VCALENDAR